Workbook

Sheet Classements jeunes
A1: Place | B1: Dossard | C1: Equipe | D1: Nom et Prénom | E1: Catg | F1: Chrono | G1: Nb tours | I1: Meilleur temps homme | J1: 9min49s | K1: MATHIS Nicolas
A2: 1 | B2: 2 | C2: =VLOOKUP(B2,jeunes!$A$2:$C$16,3,FALSE) -> Les Crampons Usés | D2: SPITZER Arthur + KREMER Leo + MASCHINO Pierre + + | E2: EQ-TJ | F2: 02:09:40 | G2: 10 | I2: Meilleur temps femme | J2: 12min23s | K2: DELLINGER Laurine
A3: 2 | B3: 9 | C3: =VLOOKUP(B3,jeunes!$A$2:$C$16,3,FALSE) -> Geek's on bike | D3: SCHATTNER William + FRUMHOLTZ Victor + BECK Baptiste + RIMLINGER Baptiste + FELIX CHABI Calvin | E3: EQ-TJ | F3: 02:10:50 | G3: 10
A4: 3 | B4: 13 | C4: =VLOOKUP(B4,jeunes!$A$2:$C$16,3,FALSE) -> Les Bunny Tonic de St Jean | D4: MUCK Erwann + LAUER Theo + RING Tom + FELD Kevin + BECKER Mael | E4: EQ-TJ | F4: 02:13:19 | G4: 10
A5: 4 | B5: 15 | C5: =VLOOKUP(B5,jeunes!$A$2:$C$16,3,FALSE) -> Nocturnes Kids Mixte | D5: KLEIN Guillaume + DELAERE Jules + BIRKENSTOCK Lili + + | E5: EQ-TJ | F5: 02:14:29 | G5: 8
A6: 5 | B6: 14 | C6: =VLOOKUP(B6,jeunes!$A$2:$C$16,3,FALSE) -> Nocturnes Kids | D6: SCHWALBACH Noemie + GROSS Elsa + N'ADMET Erine + + | E6: EQ-TJ | F6: 01:58:52 | G6: 7
A7: 6 | B7: 5 | C7: =VLOOKUP(B7,jeunes!$A$2:$C$16,3,FALSE) -> AE2M | D7: BECQUART Mathilde + SCHWALBACH Arthur + STANISLAUS Emilie + ANDRES Marie + | E7: EQ-TJ | F7: 02:07:31 | G7: 7
A10: Place | B10: Dossard | C10: Equipe | D10: Nom et Prénom | E10: Catg | F10: Chrono | G10: Nb tours
A11: 1 | B11: 4 | C11: =VLOOKUP(B11,jeunes!$A$2:$C$16,3,FALSE) -> Les Tontons Boosters | D11: SPITZER Lucas + WINKLER Jeffrey + FURHMANN Thomas + + | E11: EQ-J | F11: 02:02:01 | G11: 11
A12: 2 | B12: 6 | C12: =VLOOKUP(B12,jeunes!$A$2:$C$16,3,FALSE) -> Les PGE Tagada | D12: POIRE Julie + + LECOMTE Chloe + MATHIS Nicolas + | E12: EQ-J | F12: 02:00:01 | G12: 10
A13: 3 | B13: 11 | C13: =VLOOKUP(B13,jeunes!$A$2:$C$16,3,FALSE) -> Die Gang | D13: SCHONDORF Robin + MAURER Tom + SCHORDING Marvin + + | E13: EQ-J | F13: 02:01:24 | G13: 10
A14: 4 | B14: 10 | C14: =VLOOKUP(B14,jeunes!$A$2:$C$16,3,FALSE) -> Ride for Life | D14: ROTH Lucas + MEYER Paul + STEBE Corentin + DAHLEM Nicolas + HENNER Aurelien | E14: EQ-J | F14: 02:10:00 | G14: 10
A15: 5 | B15: 12 | C15: =VLOOKUP(B15,jeunes!$A$2:$C$16,3,FALSE) -> Les Dinguos de St Jean | D15: BECKER Logan + CHIATTO Yoan + BERTHOLD Axel + + | E15: EQ-J | F15: 02:10:12 | G15: 10
A16: 6 | B16: 8 | C16: =VLOOKUP(B16,jeunes!$A$2:$C$16,3,FALSE) -> Les PGE Tsouin Tsouin | D16: SALEMI Theo + LECOMTE Romain + DIEUDONNE Julien + + | E16: EQ-J | F16: 02:10:44 | G16: 10
A17: 7 | B17: 7 | C17: =VLOOKUP(B17,jeunes!$A$2:$C$16,3,FALSE) -> Les PGE Tsouin | D17: VUILLEMIN Louis + BARILLARO Johan + BUSCHMANN Tom + + | E17: EQ-J | F17: 02:14:16 | G17: 10
A18: 8 | B18: 3 | C18: =VLOOKUP(B18,jeunes!$A$2:$C$16,3,FALSE) -> passe la troisième | D18: WINKLER Flavie + BELAT Julie + DELLINGER Laurine + + | E18: EQ-J | F18: 02:06:06 | G18: 9
A19: 9 | B19: 1 | C19: =VLOOKUP(B19,jeunes!$A$2:$C$16,3,FALSE) -> PASSE LA DEUXIEME | D19: BELAT Erine + DELLINGER Manon + OLEXA Raphael + + | E19: EQ-J | F19: 02:01:20 | G19: 8
A21: Général
A22: Place | B22: Dossard | C22: Equipe | D22: Nom et Prénom | E22: Catg | F22: Chrono | G22: Nb tours
A23: 1 | B23: 4 | C23: =VLOOKUP(B23,jeunes!$A$2:$C$16,3,FALSE) -> Les Tontons Boosters | D23: SPITZER Lucas + WINKLER Jeffrey + FURHMANN Thomas + + | E23: EQ-J | F23: 02:02:01 | G23: 11
A24: 2 | B24: 6 | C24: =VLOOKUP(B24,jeunes!$A$2:$C$16,3,FALSE) -> Les PGE Tagada | D24: POIRE Julie + + LECOMTE Chloe + MATHIS Nicolas + | E24: EQ-J | F24: 02:00:01 | G24: 10
A25: 3 | B25: 11 | C25: =VLOOKUP(B25,jeunes!$A$2:$C$16,3,FALSE) -> Die Gang | D25: SCHONDORF Robin + MAURER Tom + SCHORDING Marvin + + | E25: EQ-J | F25: 02:01:24 | G25: 10
A26: 4 | B26: 2 | C26: =VLOOKUP(B26,jeunes!$A$2:$C$16,3,FALSE) -> Les Crampons Usés | D26: SPITZER Arthur + KREMER Leo + MASCHINO Pierre + + | E26: EQ-TJ | F26: 02:09:40 | G26: 10
A27: 5 | B27: 10 | C27: =VLOOKUP(B27,jeunes!$A$2:$C$16,3,FALSE) -> Ride for Life | D27: ROTH Lucas + MEYER Paul + STEBE Corentin + DAHLEM Nicolas + HENNER Aurelien | E27: EQ-J | F27: 02:10:00 | G27: 10
A28: 6 | B28: 12 | C28: =VLOOKUP(B28,jeunes!$A$2:$C$16,3,FALSE) -> Les Dinguos de St Jean | D28: BECKER Logan + CHIATTO Yoan + BERTHOLD Axel + + | E28: EQ-J | F28: 02:10:12 | G28: 10
A29: 7 | B29: 8 | C29: =VLOOKUP(B29,jeunes!$A$2:$C$16,3,FALSE) -> Les PGE Tsouin Tsouin | D29: SALEMI Theo + LECOMTE Romain + DIEUDONNE Julien + + | E29: EQ-J | F29: 02:10:44 | G29: 10
A30: 8 | B30: 9 | C30: =VLOOKUP(B30,jeunes!$A$2:$C$16,3,FALSE) -> Geek's on bike | D30: SCHATTNER William + FRUMHOLTZ Victor + BECK Baptiste + RIMLINGER Baptiste + FELIX CHABI Calvin | E30: EQ-TJ | F30: 02:10:50 | G30: 10
A31: 9 | B31: 13 | C31: =VLOOKUP(B31,jeunes!$A$2:$C$16,3,FALSE) -> Les Bunny Tonic de St Jean | D31: MUCK Erwann + LAUER Theo + RING Tom + FELD Kevin + BECKER Mael | E31: EQ-TJ | F31: 02:13:19 | G31: 10
A32: 10 | B32: 7 | C32: =VLOOKUP(B32,jeunes!$A$2:$C$16,3,FALSE) -> Les PGE Tsouin | D32: VUILLEMIN Louis + BARILLARO Johan + BUSCHMANN Tom + + | E32: EQ-J | F32: 02:14:16 | G32: 10
A33: 11 | B33: 3 | C33: =VLOOKUP(B33,jeunes!$A$2:$C$16,3,FALSE) -> passe la troisième | D33: WINKLER Flavie + BELAT Julie + DELLINGER Laurine + + | E33: EQ-J | F33: 02:06:06 | G33: 9
A34: 12 | B34: 1 | C34: =VLOOKUP(B34,jeunes!$A$2:$C$16,3,FALSE) -> PASSE LA DEUXIEME | D34: BELAT Erine + DELLINGER Manon + OLEXA Raphael + + | E34: EQ-J | F34: 02:01:20 | G34: 8
... A37: 15 | B37: 5 | C37: =VLOOKUP(B37,jeunes!$A$2:$C$16,3,FALSE) -> AE2M | D37: BECQUART Mathilde + SCHWALBACH Arthur + STANISLAUS Emilie + ANDRES Marie + | E37: EQ-TJ | F37: 02:07:31 | G37: 7

Sheet jeunes
A1: N° Equipe | B1: N° de Course | C1: Nom de l'équipe
A2: 1 | B2: 1 | C2: PASSE LA DEUXIEME
A3: 2 | B3: 1 | C3: Les Crampons Usés
A4: 3 | B4: 1 | C4: passe la troisième
A5: 4 | B5: 1 | C5: Les Tontons Boosters
A6: 5 | B6: 1 | C6: AE2M
A7: 6 | B7: 1 | C7: Les PGE Tagada
A8: 7 | B8: 1 | C8: Les PGE Tsouin
A9: 8 | B9: 1 | C9: Les PGE Tsouin Tsouin
A10: 9 | B10: 1 | C10: Geek's on bike
A11: 10 | B11: 1 | C11: Ride for Life
A12: 11 | B12: 1 | C12: Die Gang
A13: 12 | B13: 1 | C13: Les Dinguos de St Jean
... A16: 15 | B16: 1 | C16: Nocturnes Kids Mixte

Sheet Feuil3
A1: Place | B1: Dossard | C1: Equipe | D1: Nom et Prénom | E1: Catg | F1: Chrono | G1: Nb tours
A2: 5 | B2: 14 | C2: =VLOOKUP(B2,jeunes!$A$2:$C$16,3,FALSE) -> Nocturnes Kids | D2: SCHWALBACH Noemie + GROSS Elsa + N'ADMET Erine + + | E2: EQ-TJ | F2: 01:58:52 | G2: 7
A3: 2 | B3: 6 | C3: =VLOOKUP(B3,jeunes!$A$2:$C$16,3,FALSE) -> Les PGE Tagada | D3: POIRE Julie + + LECOMTE Chloe + MATHIS Nicolas + | E3: EQ-J | F3: 02:00:01 | G3: 10
A4: 9 | B4: 1 | C4: =VLOOKUP(B4,jeunes!$A$2:$C$16,3,FALSE) -> PASSE LA DEUXIEME | D4: BELAT Erine + DELLINGER Manon + OLEXA Raphael + + | E4: EQ-J | F4: 02:01:20 | G4: 8
A5: 3 | B5: 11 | C5: =VLOOKUP(B5,jeunes!$A$2:$C$16,3,FALSE) -> Die Gang | D5: SCHONDORF Robin + MAURER Tom + SCHORDING Marvin + + | E5: EQ-J | F5: 02:01:24 | G5: 10
A6: 1 | B6: 4 | C6: =VLOOKUP(B6,jeunes!$A$2:$C$16,3,FALSE) -> Les Tontons Boosters | D6: SPITZER Lucas + WINKLER Jeffrey + FURHMANN Thomas + + | E6: EQ-J | F6: 02:02:01 | G6: 11
A7: 8 | B7: 3 | C7: =VLOOKUP(B7,jeunes!$A$2:$C$16,3,FALSE) -> passe la troisième | D7: WINKLER Flavie + BELAT Julie + DELLINGER Laurine + + | E7: EQ-J | F7: 02:06:06 | G7: 9
A8: 6 | B8: 5 | C8: =VLOOKUP(B8,jeunes!$A$2:$C$16,3,FALSE) -> AE2M | D8: BECQUART Mathilde + SCHWALBACH Arthur + STANISLAUS Emilie + ANDRES Marie + | E8: EQ-TJ | F8: 02:07:31 | G8: 7
A9: 1 | B9: 2 | C9: =VLOOKUP(B9,jeunes!$A$2:$C$16,3,FALSE) -> Les Crampons Usés | D9: SPITZER Arthur + KREMER Leo + MASCHINO Pierre + + | E9: EQ-TJ | F9: 02:09:40 | G9: 10
A10: 4 | B10: 10 | C10: =VLOOKUP(B10,jeunes!$A$2:$C$16,3,FALSE) -> Ride for Life | D10: ROTH Lucas + MEYER Paul + STEBE Corentin + DAHLEM Nicolas + HENNER Aurelien | E10: EQ-J | F10: 02:10:00 | G10: 10
A11: 5 | B11: 12 | C11: =VLOOKUP(B11,jeunes!$A$2:$C$16,3,FALSE) -> Les Dinguos de St Jean | D11: BECKER Logan + CHIATTO Yoan + BERTHOLD Axel + + | E11: EQ-J | F11: 02:10:12 | G11: 10
A12: 6 | B12: 8 | C12: =VLOOKUP(B12,jeunes!$A$2:$C$16,3,FALSE) -> Les PGE Tsouin Tsouin | D12: SALEMI Theo + LECOMTE Romain + DIEUDONNE Julien + + | E12: EQ-J | F12: 02:10:44 | G12: 10
A13: 2 | B13: 9 | C13: =VLOOKUP(B13,jeunes!$A$2:$C$16,3,FALSE) -> Geek's on bike | D13: SCHATTNER William + FRUMHOLTZ Victor + BECK Baptiste + RIMLINGER Baptiste + FELIX CHABI Calvin | E13: EQ-TJ | F13: 02:10:50 | G13: 10
... A16: 4 | B16: 15 | C16: =VLOOKUP(B16,jeunes!$A$2:$C$16,3,FALSE) -> Nocturnes Kids Mixte | D16: KLEIN Guillaume + DELAERE Jules + BIRKENSTOCK Lili + + | E16: EQ-TJ | F16: 02:14:29 | G16: 8

Sheet Classements adultes
A1: Place | B1: Dossard | C1: Equipes | D1: Nom et Prénom | E1: Catg | F1: Chrono | G1: Nb tours | I1: Meilleur temps homme | J1: 14min22s | K1: CARRIER Jérome
A2: 1 | B2: 6 | C2: =VLOOKUP(B2,adultes!$A$2:$C$69,3,FALSE) -> Les Filles de l'Est | D2: PIQUARD Marie + JACQUES Marie + JUNG Adeline + RENAUD Alexandra + | E2: EQ-F | F2: 05:46:26 | G2: 17 | I2: Meilleur temps femme | J2: 18min34s | K2: JACQUES Marie
A3: 2 | B3: 41 | C3: =VLOOKUP(B3,adultes!$A$2:$C$69,3,FALSE) -> Les bonnes as du 67 | D3: GLOCK Anne + DORFER Eve + KAPPS Nadia + + | E3: EQ-F | F3: 05:49:48 | G3: 15
A4: 3 | B4: 49 | C4: =VLOOKUP(B4,adultes!$A$2:$C$69,3,FALSE) -> Les Fées No Men | D4: SCHWALBACH Audrey + BIRKENSTOCK Barbara + LEBERT Marie + SCHULIAR Marie-France + SCHNEIDER Sophie | E4: EQ-F | F4: 05:48:37 | G4: 13
A5: 4 | B5: 58 | C5: =VLOOKUP(B5,adultes!$A$2:$C$69,3,FALSE) -> Les Nanas de St jean | D5: FELD Regine + LAUER Barbara + GROSS Mallory + RING Chantal + JAULIN Sophie | E5: EQ-F | F5: 05:53:18 | G5: 13
A6: 5 | B6: 7 | C6: =VLOOKUP(B6,adultes!$A$2:$C$69,3,FALSE) -> LASTLADOBE | D6: GASPARD Laure + SCHNEIDER Stephanie + LABERHEIM Laurence + DEMMERLE Dorothee + KIRSCH Benedicte | E6: EQ-F | F6: 06:08:37 | G6: 13
A7: 6 | B7: 36 | C7: =VLOOKUP(B7,adultes!$A$2:$C$69,3,FALSE) -> Les GGE PIF | D7: POIRE Aude + FIKINGER Rachel + DIEUDONNE Aurelia + PFAFF Yolande + | E7: EQ-F | F7: 06:10:27 | G7: 10
A9: Place | B9: Dossard | C9: Equipes | D9: Nom et Prénom | E9: Catg | F9: Chrono | G9: Nb tours
A10: 1 | B10: 9 | C10: =VLOOKUP(B10,adultes!$A$2:$C$69,3,FALSE) -> les schweinsskäss | D10: JACQUES Christophe + MISSLER Jean-Christophe + SCHMITT Angelique + FESTOR Jason + | E10: EQ-X | F10: 05:50:30 | G10: 20
A11: 2 | B11: 19 | C11: =VLOOKUP(B11,adultes!$A$2:$C$69,3,FALSE) -> La belle et les affreux | D11: VERLET Didier + VERLET Ingeborg + WANNER Simon + GERING Raphael + | E11: EQ-X | F11: 05:52:54 | G11: 19
A12: 3 | B12: 28 | C12: =VLOOKUP(B12,adultes!$A$2:$C$69,3,FALSE) -> Viessmann Mixte | D12: BORR Anne + COMORETTO Sebastien + FRANCOIS Yannick + LISIECKI Frederic + | E12: EQ-X | F12: 05:46:04 | G12: 18
A13: 4 | B13: 24 | C13: =VLOOKUP(B13,adultes!$A$2:$C$69,3,FALSE) -> La Belle et les Bêtes de Woust | D13: BIERMANN Joanna + KANT Julien + MULLER Mael + ESCHENBRENNER Sacha + | E13: EQ-X | F13: 05:49:11 | G13: 18
A14: 5 | B14: 12 | C14: =VLOOKUP(B14,adultes!$A$2:$C$69,3,FALSE) -> Les Douces Pédales | D14: ARESI Antoine + ARESI Fanny + BOLITT Thomas + POLIN emile + GOSSE etienne | E14: EQ-X | F14: 05:58:37 | G14: 18
A15: 6 | B15: 4 | C15: =VLOOKUP(B15,adultes!$A$2:$C$69,3,FALSE) -> les Poneyyys | D15: HARDY Sophie + MARTINI Pierre + RUFFRA Aurelien + LAURE Laetitia + LAURENT Paul | E15: EQ-X | F15: 05:59:17 | G15: 18
A16: 7 | B16: 10 | C16: =VLOOKUP(B16,adultes!$A$2:$C$69,3,FALSE) -> Team Agglo CASC | D16: KOPP Geoffrey + KOPP Marie + LAROSE Regis + MOUCHOT Patrice + RAYMOND Benoit | E16: EQ-X | F16: 05:33:19 | G16: 16
A17: 8 | B17: 29 | C17: =VLOOKUP(B17,adultes!$A$2:$C$69,3,FALSE) -> Les inséparables de Woust | D17: HAAG GUY + DUDOT ALINE + JACOB FREDERIC + JACOB ALEXANDRA + | E17: EQ-X | F17: 05:50:09 | G17: 16
A18: 9 | B18: 43 | C18: =VLOOKUP(B18,adultes!$A$2:$C$69,3,FALSE) -> Rasta Rocket Team | D18: LETT Julien + LETT Angelique + BACH Gaston + MULLER Jean-Francois + SIEG Nicolas | E18: EQ-X | F18: 05:48:13 | G18: 15
A19: 10 | B19: 31 | C19: =VLOOKUP(B19,adultes!$A$2:$C$69,3,FALSE) -> Les Vikings 2 | D19: HOELLINGER Virginie + BURLETT Aline + CREUSOT Alexi + KLINKERT Patricia + BECQUART Franck | E19: EQ-X | F19: 05:57:32 | G19: 15
A20: 11 | B20: 37 | C20: =VLOOKUP(B20,adultes!$A$2:$C$69,3,FALSE) -> Les GGE PAF | D20: POIRE Fabrice + PFAFF Sylvain + LACHAISE Amandine + BARILLARO Dominique + | E20: EQ-X | F20: 06:10:52 | G20: 15
A21: 12 | B21: 14 | C21: =VLOOKUP(B21,adultes!$A$2:$C$69,3,FALSE) -> Un Tour Une Heure | D21: ARESI Celine + DELLINGER Simone + MASCHINO Fabrice + HALLER Yves + | E21: EQ-X | F21: 05:59:15 | G21: 14
... A24: 15 | B24: 16 | C24: =VLOOKUP(B24,adultes!$A$2:$C$69,3,FALSE) -> Les Fraggle Rock | D24: JACQUES Chantal + OLEXA Laurent + JACQUES Elodie + KOPPERS Laurent + KIEDIS Benjamin | E24: EQ-X | F24: 05:41:56 | G24: 12
A26: Place | B26: Dossard | C26: Equipes | D26: Nom et Prénom | E26: Catg | F26: Chrono | G26: Nb tours
A27: 1 | B27: 2 | C27: =VLOOKUP(B27,adultes!$A$2:$C$69,3,FALSE) -> Nocturnes st joseph | D27: SCHWALBACH Martial + KLEIN Christophe + PIERROT Jean Christophe + CARRIER Jerome + HAAG Thomas | E27: EQ-H | F27: 06:06:57 | G27: 22
A28: 2 | B28: 3 | C28: =VLOOKUP(B28,adultes!$A$2:$C$69,3,FALSE) -> Les Troisièmes | D28: KIRSCH Stephane + STELMASZYK Julien + CULLY Tristan + CARRIER Christophe + KIRSCH Fabrice | E28: EQ-H | F28: 06:07:03 | G28: 22
A29: 3 | B29: 1 | C29: =VLOOKUP(B29,adultes!$A$2:$C$69,3,FALSE) -> BIKE WORLD Luxembourg | D29: HELL Alain + PIERART Laurent + SEICHEPINE Didier + ACREMANN Laurent + | E29: EQ-H | F29: 05:42:08 | G29: 21
A30: 4 | B30: 21 | C30: =VLOOKUP(B30,adultes!$A$2:$C$69,3,FALSE) -> Les inconnus | D30: KOENIGSECKER Yannick + WEIN Yannick + HELVIG Johan + SCHLOSSER Dominique + | E30: EQ-H | F30: 05:45:59 | G30: 21
A31: 5 | B31: 26 | C31: =VLOOKUP(B31,adultes!$A$2:$C$69,3,FALSE) -> INTERSPORT FORBACH | D31: KIRCHER Guillaume + HUTHER Georges + BELGHERBI Anthony + GROSS Christian + MAZON David | E31: EQ-H | F31: 05:41:41 | G31: 20
A32: 6 | B32: 8 | C32: =VLOOKUP(B32,adultes!$A$2:$C$69,3,FALSE) -> TEAM LDP | D32: STAUTER Ludovic + DORKEL Yannick + KIRSCH Alain + BECQUART Jeremy + SCHNEIDER Frederic | E32: EQ-H | F32: 05:53:02 | G32: 20
A33: 7 | B33: 65 | C33: =VLOOKUP(B33,adultes!$A$2:$C$69,3,FALSE) -> Conti'Bikes 1 | D33: WUWER Thomas + MASLON David + STEYER Cyril + KUNZ Clement + | E33: EQ-H | F33: 05:53:11 | G33: 20
A34: 8 | B34: 48 | C34: =VLOOKUP(B34,adultes!$A$2:$C$69,3,FALSE) -> Schwalby Family | D34: RIMLINGER Alfred + SCHWALBACH Laurent + SCHWALBACH Franck + SCHWALBACH Eric + SCHWALBACH Jerome | E34: EQ-H | F34: 05:44:57 | G34: 19
A35: 9 | B35: 53 | C35: =VLOOKUP(B35,adultes!$A$2:$C$69,3,FALSE) -> 16ème Bataillon | D35: MERANDI Bernard + HAMMER Florian + WEBER Jean-Michel + WAGNER Vincent + PRINZ Dominique | E35: EQ-H | F35: 05:45:48 | G35: 19
A36: 10 | B36: 47 | C36: =VLOOKUP(B36,adultes!$A$2:$C$69,3,FALSE) -> La bande à Patrick | D36: DANNENHOFFER Florian + VOGEL Florian + HULEUX Xavier + WEYANT Michel + HELFEN Patrick | E36: EQ-H | F36: 05:50:14 | G36: 19
A37: 11 | B37: 66 | C37: =VLOOKUP(B37,adultes!$A$2:$C$69,3,FALSE) -> Conti'Bikes 2 | D37: MEYER Nicolas + MALLANDAIN Nicolas + OBRINGER Alain + PIERRON Manfred + | E37: EQ-H | F37: 05:56:13 | G37: 19
A38: 12 | B38: 15 | C38: =VLOOKUP(B38,adultes!$A$2:$C$69,3,FALSE) -> Les évadés | D38: GREBIL Stephane + BOLAY Yannick + DEMMERLE Yves + BORNER Daniel + HALLER Jean Michel | E38: EQ-H | F38: 05:45:08 | G38: 18
... A72: 46 | B72: 39 | C72: =VLOOKUP(B72,adultes!$A$2:$C$69,3,FALSE) -> Les Bof déjantés | D72: KAAS Maxime + KINNER Mickael + RINALDI Andre + CONTESSE Steve + CONTESSE Mathieu | E72: EQ-H | F72: 02:27:31 | G72: 5
A74: Général
A75: Place | B75: Dossard | C75: Equipes | D75: Nom et Prénom | E75: Catg | F75: Chrono | G75: Nb tours
A76: 1 | B76: =VLOOKUP(C76,adultes!$C$2:$E$69,3,FALSE) -> 2 | C76: Nocturnes st joseph | E76: H | F76: 06:06:57 | G76: 22
A77: 2 | B77: =VLOOKUP(C77,adultes!$C$2:$E$69,3,FALSE) -> 3 | C77: Les Troisièmes | E77: H | F77: 06:07:03 | G77: 22
A78: 3 | B78: =VLOOKUP(C78,adultes!$C$2:$E$69,3,FALSE) -> 1 | C78: BIKE WORLD Luxembourg | E78: H | F78: 05:42:08 | G78: 21
A79: 4 | B79: =VLOOKUP(C79,adultes!$C$2:$E$69,3,FALSE) -> 21 | C79: Les inconnus | E79: H | F79: 05:45:59 | G79: 21
A80: 5 | B80: =VLOOKUP(C80,adultes!$C$2:$E$69,3,FALSE) -> 26 | C80: INTERSPORT FORBACH | E80: H | F80: 05:41:41 | G80: 20
A81: 6 | B81: =VLOOKUP(C81,adultes!$C$2:$E$69,3,FALSE) -> 9 | C81: les schweinsskäss | E81: H | F81: 05:50:30 | G81: 20
A82: 7 | B82: =VLOOKUP(C82,adultes!$C$2:$E$69,3,FALSE) -> 8 | C82: TEAM LDP | E82: H | F82: 05:53:02 | G82: 20
A83: 8 | B83: =VLOOKUP(C83,adultes!$C$2:$E$69,3,FALSE) -> 65 | C83: Conti'Bikes 1 | E83: H | F83: 05:53:11 | G83: 20
A84: 9 | B84: =VLOOKUP(C84,adultes!$C$2:$E$69,3,FALSE) -> 48 | C84: Schwalby Family | E84: H | F84: 05:44:57 | G84: 19
A85: 10 | B85: =VLOOKUP(C85,adultes!$C$2:$E$69,3,FALSE) -> 53 | C85: 16ème Bataillon | E85: H | F85: 05:45:48 | G85: 19
A86: 11 | B86: =VLOOKUP(C86,adultes!$C$2:$E$69,3,FALSE) -> 47 | C86: La bande à Patrick | E86: H | F86: 05:50:14 | G86: 19
A87: 12 | B87: =VLOOKUP(C87,adultes!$C$2:$E$69,3,FALSE) -> 19 | C87: La belle et les affreux | E87: H | F87: 05:52:54 | G87: 19
... A142: 67 | B142: =VLOOKUP(C142,adultes!$C$2:$E$69,3,FALSE) -> 39 | C142: Les Bof déjantés | E142: H | F142: 02:27:31 | G142: 5

Sheet adultes
A1: N° Equipe | B1: N° de Course | C1: Nom de l'équipe | D1: Catégorie de l'équipe
A2: 1 | B2: 1 | C2: BIKE WORLD Luxembourg | D2: EQ-H | E2: 1
A3: 2 | B3: 1 | C3: Nocturnes st joseph | D3: EQ-H | E3: 2
A4: 3 | B4: 1 | C4: Les Troisièmes | D4: EQ-H | E4: 3
A5: 4 | B5: 1 | C5: les Poneyyys | D5: EQ-X | E5: 4
A6: 5 | B6: 1 | C6: Les Rouleurs du Dimanche | D6: EQ-X | E6: 5
A7: 6 | B7: 1 | C7: Les Filles de l'Est | D7: EQ-F | E7: 6
A8: 7 | B8: 1 | C8: LASTLADOBE | D8: EQ-F | E8: 7
A9: 8 | B9: 1 | C9: TEAM LDP | D9: EQ-H | E9: 8
A10: 9 | B10: 1 | C10: les schweinsskäss | D10: EQ-X | E10: 9
A11: 10 | B11: 1 | C11: Team Agglo CASC | D11: EQ-X | E11: 10
A12: 11 | B12: 1 | C12: LES COURTS-CIRCUITS | D12: EQ-H | E12: 11
A13: 12 | B13: 1 | C13: Les Douces Pédales | D13: EQ-X | E13: 12
... A69: 68 | B69: 1 | C69: On est là | D69: EQ-H | E69: 68
